BEGIN:VCALENDAR
PRODID://WordPress//Event-Post-V5.9.2//EN
VERSION:2.0
BEGIN:VTIMEZONE
TZID:Europe/Amsterdam
BEGIN:DAYLIGHT
TZOFFSETFROM:+0100
TZOFFSETTO:+0200
DTSTART:19700329T020000
RRULE:FREQ=YEARLY;BYDAY=-1SU;BYMONTH=3
END:DAYLIGHT
BEGIN:STANDARD
TZOFFSETFROM:+0200
TZOFFSETTO:+0100
TZNAME:CET
DTSTART:19701025T030000
RRULE:FREQ=YEARLY;BYDAY=-1SU;BYMONTH=10
END:STANDARD
END:VTIMEZONE
BEGIN:VEVENT
SUMMARY:Raadhuis Pinksterun keert terug in Oudorp
UID:https://hub.streekstadcentraal.nl/raadhuis-pinksterun-keert-terug-in-oudorp/
LOCATION:
DTSTAMP:20260522T173000
DTSTART;TZID=Europe/Amsterdam:20260522T173000
DTEND;TZID=Europe/Amsterdam:20260522T203000
DESCRIPTION:Op vrijdag 22 mei organiseert Alkmaar Sport vanaf het sportcomplex Vaart
weer de jaarlijkse Raadhuis Pinksterun.

De avond start om 17:30 uur met de Pinksterwalk (5 en 10 km). Om 18:00 uur
zijn de Kidsrun voor kinderen en de FunRUN voor wie graag begeleiding wil.
Dan is er Wedstrijdkids (2,5 km) om 18:30 uur, inclusief tijdsregistratie.
De 5 km begint om 19:00 uur, waarna de 10 km-lopers volgen. Alle routes
voeren door Oudorp en eindigen bij de finish met een medaille voor iedere
deelnemer. 

Inschrijven kan via pinksterun.nl.
END:VEVENT
END:VCALENDAR