BEGIN:VCALENDAR
PRODID://WordPress//Event-Post-V5.9.2//EN
VERSION:2.0
BEGIN:VTIMEZONE
TZID:Europe/Amsterdam
BEGIN:DAYLIGHT
TZOFFSETFROM:+0100
TZOFFSETTO:+0200
DTSTART:19700329T020000
RRULE:FREQ=YEARLY;BYDAY=-1SU;BYMONTH=3
END:DAYLIGHT
BEGIN:STANDARD
TZOFFSETFROM:+0200
TZOFFSETTO:+0100
TZNAME:CET
DTSTART:19701025T030000
RRULE:FREQ=YEARLY;BYDAY=-1SU;BYMONTH=10
END:STANDARD
END:VTIMEZONE
BEGIN:VEVENT
SUMMARY:Lezing over Jan Steen bij Het Hof: humor en verborgen verhalen centraal
UID:https://hub.streekstadcentraal.nl/lezing-over-jan-steen-bij-het-hof-humor-en-verborgen-verhalen-centraal/
LOCATION:
DTSTAMP:20260502T143000
DTSTART;TZID=Europe/Amsterdam:20260502T143000
DTEND;TZID=Europe/Amsterdam:20260502T173000
DESCRIPTION:In Restaurant Het Hof in Bergen vindt op 2 mei van 14:30 tot 17:30 uur een
bijzondere lezing plaats over schilder Jan Steen. De middag staat in het
teken van het 400e geboortejaar van de kunstenaar. De lezing is van Bas
Zevenbergen in het kader van zijn reeks 'The fun part of art'.
 
Zevenbergen neemt het publiek mee in de ogenschijnlijk chaotische, maar
verrassend gelaagde wereld van Jan Steen. Wie wil, kan de middag verlengen
met een sfeervol diner bij Het Hof. De lezing kost 17,50 euro per persoon.
Een ticket inclusief diner kost 62,50 euro. Tickets zijn verkrijgbaar via
thefunpartofart.com
END:VEVENT
END:VCALENDAR