BEGIN:VCALENDAR
PRODID://WordPress//Event-Post-V5.9.2//EN
VERSION:2.0
BEGIN:VTIMEZONE
TZID:Europe/Amsterdam
BEGIN:DAYLIGHT
TZOFFSETFROM:+0100
TZOFFSETTO:+0200
DTSTART:19700329T020000
RRULE:FREQ=YEARLY;BYDAY=-1SU;BYMONTH=3
END:DAYLIGHT
BEGIN:STANDARD
TZOFFSETFROM:+0200
TZOFFSETTO:+0100
TZNAME:CET
DTSTART:19701025T030000
RRULE:FREQ=YEARLY;BYDAY=-1SU;BYMONTH=10
END:STANDARD
END:VTIMEZONE
BEGIN:VEVENT
SUMMARY:Muziektheatershow Requiem in natuurtuin Castricum tijdens Karavaan Festival
UID:https://hub.streekstadcentraal.nl/muziektheatershow-requiem-in-natuurtuin-castricum-tijdens-karavaan-festival/
LOCATION:
DTSTAMP:20260522
DTSTART;TZID=Europe/Amsterdam:20260522
DTEND;TZID=Europe/Amsterdam:20260531
DESCRIPTION:In de natuurtuin van Kapitein Rommel in Castricum, van 22 mei tot en met 31
mei, presenteert operacollectief Ludvik de muziektheatervoorstelling
Requiem tijdens het Karavaan Festival. In Requiem nemen spelers en zangers
je mee in een licht absurd, maar hoopvol ritueel waarin afscheid wordt
genomen van angsten.

Muzikaal vormt werk van Mozart en Verdi de basis, gecombineerd met nieuwe
composities van Stan Geurts. Drie acteurs, een pianist en een regionaal
projectkoor brengen dit tot leven op verschillende plekken in het groen.
Tickets en meer informatie zijn verkrijgbaar via
karavaan.nl/voorstellingen. 
END:VEVENT
END:VCALENDAR