BEGIN:VCALENDAR
PRODID://WordPress//Event-Post-V5.9.2//EN
VERSION:2.0
BEGIN:VTIMEZONE
TZID:Europe/Amsterdam
BEGIN:DAYLIGHT
TZOFFSETFROM:+0100
TZOFFSETTO:+0200
DTSTART:19700329T020000
RRULE:FREQ=YEARLY;BYDAY=-1SU;BYMONTH=3
END:DAYLIGHT
BEGIN:STANDARD
TZOFFSETFROM:+0200
TZOFFSETTO:+0100
TZNAME:CET
DTSTART:19701025T030000
RRULE:FREQ=YEARLY;BYDAY=-1SU;BYMONTH=10
END:STANDARD
END:VTIMEZONE
BEGIN:VEVENT
SUMMARY:Lionsclub-lezing: Katja Staartjes vertelt in Merlet over samenwerken onder extreme druk
UID:https://hub.streekstadcentraal.nl/katja-staartjes-vertelt-in-schoorl-over-samenwerken-onder-extreme-druk/
LOCATION:
DTSTAMP:20260506T193000
DTSTART;TZID=Europe/Amsterdam:20260506T193000
DTEND;TZID=Europe/Amsterdam:20260506T220000
DESCRIPTION:Woensdag 6 mei tussen 19:30 en 22:00 uur organiseert Lionsclub Bergen
Egmond Schoorl een thema-avond in Hotel-Restaurant Merlet. Gastspreker is
bergbeklimmer Katja Staartjes, bekend als de eerste Nederlandse vrouw die
de top van de Mount Everest bereikte.

Tijdens de avond, met als titel ‘Expeditie met bergen inspiratie’,
neemt Staartjes bezoekers mee in de wereld van extreme expedities. Aan de
hand van indrukwekkende beelden en persoonlijke verhalen laat ze zien hoe
vertrouwen, samenwerking en wendbaarheid het verschil maken. Kaarten kosten
10 euro inclusief drankje. Meer informatie en aanmelden via bes.lions.nl.
END:VEVENT
END:VCALENDAR