BEGIN:VCALENDAR
PRODID://WordPress//Event-Post-V5.9.2//EN
VERSION:2.0
BEGIN:VTIMEZONE
TZID:Europe/Amsterdam
BEGIN:DAYLIGHT
TZOFFSETFROM:+0100
TZOFFSETTO:+0200
DTSTART:19700329T020000
RRULE:FREQ=YEARLY;BYDAY=-1SU;BYMONTH=3
END:DAYLIGHT
BEGIN:STANDARD
TZOFFSETFROM:+0200
TZOFFSETTO:+0100
TZNAME:CET
DTSTART:19701025T030000
RRULE:FREQ=YEARLY;BYDAY=-1SU;BYMONTH=10
END:STANDARD
END:VTIMEZONE
BEGIN:VEVENT
SUMMARY:Voorstelling over vergeten vrouw van Willem van Oranje in Alkmaars schuilkerkje
UID:https://hub.streekstadcentraal.nl/voorstelling-over-vergeten-vrouw-van-willem-van-oranje-in-alkmaars-schuilkerkje/
LOCATION:
DTSTAMP:20260521
DTSTART;TZID=Europe/Amsterdam:20260521
DTEND;TZID=Europe/Amsterdam:20260531
DESCRIPTION:In het historische schuilkerkje aan het Fnidsen is van woensdag 21 mei tot
en met zaterdag 31 mei de voorstelling Anna An Sich te zien. De
voorstelling begint dagelijks in de avonduren en maakt deel uit van het
Karavaan Festival.  Anna was de tweede vrouw van Willem van Oranje en werd
krankzinnig verklaard. Ze verloor haar kinderen en leefde afgezonderd in
Dresden. 

Ook is in de kerk een tentoonstelling te zien over vrouwen die uit de
geschiedenisboeken verdwenen. Hiervoor werkt Karavaan samen met Bureau
Stennis, The Historical Women Project en Dolle Mina’s Alkmaar. Tickets
voor Anna An Sich zijn verkrijgbaar via karavaan.nl.
END:VEVENT
END:VCALENDAR