BEGIN:VCALENDAR
PRODID://WordPress//Event-Post-V5.9.2//EN
VERSION:2.0
BEGIN:VTIMEZONE
TZID:Europe/Amsterdam
BEGIN:DAYLIGHT
TZOFFSETFROM:+0100
TZOFFSETTO:+0200
DTSTART:19700329T020000
RRULE:FREQ=YEARLY;BYDAY=-1SU;BYMONTH=3
END:DAYLIGHT
BEGIN:STANDARD
TZOFFSETFROM:+0200
TZOFFSETTO:+0100
TZNAME:CET
DTSTART:19701025T030000
RRULE:FREQ=YEARLY;BYDAY=-1SU;BYMONTH=10
END:STANDARD
END:VTIMEZONE
BEGIN:VEVENT
SUMMARY:Onderwaterkunst in Alkmaar: nieuwe expositie opent in Yogallery
UID:https://hub.streekstadcentraal.nl/onderwaterkunst-in-alkmaar-nieuwe-expositie-opent-in-yogallery/
LOCATION:
DTSTAMP:20260501
DTSTART;TZID=Europe/Amsterdam:20260501
DTEND;TZID=Europe/Amsterdam:20260930
DESCRIPTION:Van 2 mei tot en met september toont de Yogallery aan het Verdronkenoord in
Alkmaar de expositie Onderwater op het Verdronkenoord.  De tentoonstelling
brengt werk samen van kunstenaars Zena-Rae en Inge Koetzier van Hooff. 

Zena-Rae, multidisciplinair maker en DJ uit Rotterdam, toont kleurrijke
schilderijen en tekeningen waarin herinneringen, beweging en energie
centraal staan. Inge Koetzier van Hooff laat juist minimalistisch en
gelaagd werk zien. 

De officiële opening is op vrijdag 1 mei om 17:00 uur. Meer info via
yogalleryalkmaar@gmail.com.

END:VEVENT
END:VCALENDAR