BEGIN:VCALENDAR
PRODID://WordPress//Event-Post-V5.9.2//EN
VERSION:2.0
BEGIN:VTIMEZONE
TZID:Europe/Amsterdam
BEGIN:DAYLIGHT
TZOFFSETFROM:+0100
TZOFFSETTO:+0200
DTSTART:19700329T020000
RRULE:FREQ=YEARLY;BYDAY=-1SU;BYMONTH=3
END:DAYLIGHT
BEGIN:STANDARD
TZOFFSETFROM:+0200
TZOFFSETTO:+0100
TZNAME:CET
DTSTART:19701025T030000
RRULE:FREQ=YEARLY;BYDAY=-1SU;BYMONTH=10
END:STANDARD
END:VTIMEZONE
BEGIN:VEVENT
SUMMARY:Meivakantie vol waterpret bij Hoornse Vaart: buitenbad opent weer
UID:https://hub.streekstadcentraal.nl/meivakantie-vol-waterpret-bij-hoornse-vaart-buitenbad-opent-weer/
LOCATION:
DTSTAMP:20260425
DTSTART;TZID=Europe/Amsterdam:20260425
DTEND;TZID=Europe/Amsterdam:20260510
DESCRIPTION:Bij zwembad Hoornse Vaart in Alkmaar staat de meivakantie volledig in het
teken van zwemmen, spelen en ontspannen. Een bijzonder moment dit jaar is
de opening van het buitenbad op zaterdag 25 april. Vanaf die dag kunnen
bezoekers iedere dag terecht voor een frisse duik.

Binnen in het zwembad is er tijdens de vakantie volop activiteit. Elke
middag ligt in het 50-meterbad de Mega Haai Run klaar, een grote stormbaan
voor kinderen. Ook worden er extra zwemlessen en snelcursussen voor diploma
B en C georganiseerd. Meer informatie is te vinden op
hoornsevaart.nl/vakantie.
END:VEVENT
END:VCALENDAR