BEGIN:VCALENDAR
PRODID://WordPress//Event-Post-V5.9.2//EN
VERSION:2.0
BEGIN:VTIMEZONE
TZID:Europe/Amsterdam
BEGIN:DAYLIGHT
TZOFFSETFROM:+0100
TZOFFSETTO:+0200
DTSTART:19700329T020000
RRULE:FREQ=YEARLY;BYDAY=-1SU;BYMONTH=3
END:DAYLIGHT
BEGIN:STANDARD
TZOFFSETFROM:+0200
TZOFFSETTO:+0100
TZNAME:CET
DTSTART:19701025T030000
RRULE:FREQ=YEARLY;BYDAY=-1SU;BYMONTH=10
END:STANDARD
END:VTIMEZONE
BEGIN:VEVENT
SUMMARY:Open Podium in Park De Oude Kwekerij
UID:https://hub.streekstadcentraal.nl/open-podium-in-park-de-oude-kwekerij-2/
LOCATION:
DTSTAMP:20260510T140000
DTSTART;TZID=Europe/Amsterdam:20260510T140000
DTEND;TZID=Europe/Amsterdam:20260510T160000
DESCRIPTION:Op zondagmiddag 10 mei is er weer een Open Podium in het Alkmaarse Park De
Oude Kwekerij.  Het duo Vallende Vogels begint om 14:00 uur en brengt met
art-music met zang en gitaar. The Ennrons is een semi-akoestisch rockduo
uit Haarlem met een repertiore dat bestaat uit eigen nummers en
eigen-gemaakte covers. The Bewlay Brothers biedft een akoestische ode aan
David Bowie en tot slot zingt het Alkmaarse popkoor Cheezzz Engelstalige
nummers.

De horeca in het Parkhuis is open en bij slecht weer zijn de optredens
binnen. De toegang is gratis, er wordt met de hoed rond gegaan voor een
kleine  bijdrage. Het park is verboden voor honden.
END:VEVENT
END:VCALENDAR