BEGIN:VCALENDAR
PRODID://WordPress//Event-Post-V5.9.2//EN
VERSION:2.0
BEGIN:VTIMEZONE
TZID:Europe/Amsterdam
BEGIN:DAYLIGHT
TZOFFSETFROM:+0100
TZOFFSETTO:+0200
DTSTART:19700329T020000
RRULE:FREQ=YEARLY;BYDAY=-1SU;BYMONTH=3
END:DAYLIGHT
BEGIN:STANDARD
TZOFFSETFROM:+0200
TZOFFSETTO:+0100
TZNAME:CET
DTSTART:19701025T030000
RRULE:FREQ=YEARLY;BYDAY=-1SU;BYMONTH=10
END:STANDARD
END:VTIMEZONE
BEGIN:VEVENT
SUMMARY:Benefietconcert New Island Brass in de Dorpskerk van Grootschermer
UID:https://hub.streekstadcentraal.nl/benefietconcert-new-island-brass-in-de-dorpskerk-van-grootschermer/
LOCATION:
DTSTAMP:20260503T150000
DTSTART;TZID=Europe/Amsterdam:20260503T150000
DTEND;TZID=Europe/Amsterdam:20260503T170000
DESCRIPTION:Het New Island Brass ensemble komt op zondag 3 mei naar de Dorpskerk van
Grootschermer voor een benefietoptreden. De toegang is gratis; het optreden
is vooral bedoeld om aandacht te vragen voor het orgel uit 1864 dat hard
aan renovatie toe is.

Met een passie voor muziek brengt het New Island Brass ensemble uit Marken
een breed repertoire ten gehore van klassieke brassmuziek en Renaissance
klanken tot verrassende moderne werken.

Het concert begint om 15:00 uur en is dus gratis bij te wonen.
Vanzelfsprekend kan een donatie gedaan worden in het kistje of via de
website van de Dorpskerk.
END:VEVENT
END:VCALENDAR